BEGIN:VCALENDAR
VERSION:2.0
PRODID:-//Davis Street - ECPv6.15.20//NONSGML v1.0//EN
CALSCALE:GREGORIAN
METHOD:PUBLISH
X-WR-CALNAME:Davis Street
X-ORIGINAL-URL:https://davisstreet.org
X-WR-CALDESC:Events for Davis Street
REFRESH-INTERVAL;VALUE=DURATION:PT1H
X-Robots-Tag:noindex
X-PUBLISHED-TTL:PT1H
BEGIN:VTIMEZONE
TZID:America/Los_Angeles
BEGIN:DAYLIGHT
TZOFFSETFROM:-0800
TZOFFSETTO:-0700
TZNAME:PDT
DTSTART:20240310T100000
END:DAYLIGHT
BEGIN:STANDARD
TZOFFSETFROM:-0700
TZOFFSETTO:-0800
TZNAME:PST
DTSTART:20241103T090000
END:STANDARD
BEGIN:DAYLIGHT
TZOFFSETFROM:-0800
TZOFFSETTO:-0700
TZNAME:PDT
DTSTART:20250309T100000
END:DAYLIGHT
BEGIN:STANDARD
TZOFFSETFROM:-0700
TZOFFSETTO:-0800
TZNAME:PST
DTSTART:20251102T090000
END:STANDARD
BEGIN:DAYLIGHT
TZOFFSETFROM:-0800
TZOFFSETTO:-0700
TZNAME:PDT
DTSTART:20260308T100000
END:DAYLIGHT
BEGIN:STANDARD
TZOFFSETFROM:-0700
TZOFFSETTO:-0800
TZNAME:PST
DTSTART:20261101T090000
END:STANDARD
END:VTIMEZONE
BEGIN:VEVENT
DTSTART;TZID=America/Los_Angeles:20250501T173000
DTEND;TZID=America/Los_Angeles:20250501T203000
DTSTAMP:20260421T032257
CREATED:20250214T200603Z
LAST-MODIFIED:20250214T203844Z
UID:15813-1746120600-1746131400@davisstreet.org
SUMMARY:Davis Street Tropical Escape Fundraising Gala
DESCRIPTION:Davis Street Tropical Escape Fundraising Gala				\n				\n									Join us for an unforgettable evening in paradise! Date: May 1\, 2025Time: 5:30 PM – 8:30 PMLocation: Boys & Girls Clubs of San Leandro2200 San Leandro Blvd\, San Leandro\, CA 94577 								\n				\n									Escape to a tropical paradise while making a meaningful impact! Celebrate Davis Street’s 53rd year of serving the San Leandro and Eden area communities at our Tropical Escape Fundraising Gala. Enjoy an evening filled with delicious cuisine\, lively entertainment\, and heartfelt philanthropy. 								\n				\n		\n				\n									What to ExpectExquisite Food & Drinks: Savor a tropical-themed dinner and handcrafted cocktails.Live Auction: Bid on exclusive items and experiences\, with all proceeds supporting Davis Street programs.Vibrant Atmosphere: Dance to great music\, connect with like-minded supporters\, and help us improve the lives of low-income families.								\n				\n		\n				\n									Tickets$250 per personReserve your spot today and be part of an unforgettable evening. 								\n				\n										\n						\n									Buy Tickets Now\n					\n					\n								\n				\n		\n				\n									Sponsorship OpportunitiesSupport Davis Street’s mission while gaining valuable exposure for your business or organization. 								\n				\n							\n							\n											\n													\n										Coral Reef Sponsor ($500): Logo/name recognition on our website\, social media\, and monthly e-newsletters.\n									\n								\n											\n													\n										Tropical Wave Sponsor ($1\,000): All Coral Reef benefits plus name recognition in the event program and welcome poster.\n									\n								\n											\n													\n										Island Breeze Sponsor ($2\,500): All Tropical Wave benefits plus recognition in the San Leandro Times\, Patch\, and other press.\n									\n								\n											\n													\n										Sunset Oasis Sponsor ($5\,000): All Island Breeze benefits plus a quarter-page ad in the event program.\n									\n								\n											\n													\n										Lagoon Luxe Sponsor ($10\,000): All Sunset Oasis benefits plus a half-page ad in the event program and a speaking opportunity.\n									\n								\n											\n													\n										Palm Paradise Sponsor ($25\,000): All Lagoon Luxe benefits plus a full-page ad\, a speaking opportunity\, and naming rights on one specialty cocktail with a surprise gift.\n									\n						\n						\n				\n										\n						\n									Become a Sponsor\n					\n					\n								\n				\n				\n									Your support helps Davis Street provide essential services and improve the quality of life for low-income residents in our community. Thank you for being part of our journey!								\n				\n							\n			\n						\n		\n						\n				\n									For more information\, contact us at info@davisstreet.org or call (510) 347-4620.
URL:https://davisstreet.org/event/davis-street-tropical-escape-fundraising-gala/
LOCATION:Boys & Girls Clubs of San Leandro\, 2200 San Leandro Blvd.\, San Leandro\, CA\, 94577\, United States
CATEGORIES:DS Events
ORGANIZER;CN="Davis Street":MAILTO:DSFRCInfo@davisstreet.org
END:VEVENT
END:VCALENDAR